BEGIN:VCALENDAR
VERSION:2.0
PRODID:-//Fidele Elf Wiesbaden / Mainz e.V. - ECPv6.15.20//NONSGML v1.0//EN
CALSCALE:GREGORIAN
METHOD:PUBLISH
X-ORIGINAL-URL:https://fidele-elf.de
X-WR-CALDESC:Veranstaltungen für Fidele Elf Wiesbaden / Mainz e.V.
REFRESH-INTERVAL;VALUE=DURATION:PT1H
X-Robots-Tag:noindex
X-PUBLISHED-TTL:PT1H
BEGIN:VTIMEZONE
TZID:Europe/Berlin
BEGIN:DAYLIGHT
TZOFFSETFROM:+0100
TZOFFSETTO:+0200
TZNAME:CEST
DTSTART:20250330T010000
END:DAYLIGHT
BEGIN:STANDARD
TZOFFSETFROM:+0200
TZOFFSETTO:+0100
TZNAME:CET
DTSTART:20251026T010000
END:STANDARD
BEGIN:DAYLIGHT
TZOFFSETFROM:+0100
TZOFFSETTO:+0200
TZNAME:CEST
DTSTART:20260329T010000
END:DAYLIGHT
BEGIN:STANDARD
TZOFFSETFROM:+0200
TZOFFSETTO:+0100
TZNAME:CET
DTSTART:20261025T010000
END:STANDARD
BEGIN:DAYLIGHT
TZOFFSETFROM:+0100
TZOFFSETTO:+0200
TZNAME:CEST
DTSTART:20270328T010000
END:DAYLIGHT
BEGIN:STANDARD
TZOFFSETFROM:+0200
TZOFFSETTO:+0100
TZNAME:CET
DTSTART:20271031T010000
END:STANDARD
END:VTIMEZONE
BEGIN:VEVENT
DTSTART;TZID=Europe/Berlin:20260422T190000
DTEND;TZID=Europe/Berlin:20260422T210000
DTSTAMP:20260424T172234
CREATED:20240505T082730Z
LAST-MODIFIED:20250606T155059Z
UID:10001662-1776884400-1776891600@fidele-elf.de
SUMMARY:Garde
DESCRIPTION:
URL:https://fidele-elf.de/event/garde-training/2026-04-22/
LOCATION:Sporthalle – Gymnasium Am Mosbacher Berg\, Mosbacher Str. 57\, Wiesbaden\, Hessen\, 65187\, Deutschland
CATEGORIES:Gardetraining
ORGANIZER;CN="Fidele Elf Carnevalsgemeinschaft Wiesbaden Mainz e.V.":MAILTO:info@fidele-elf.de
END:VEVENT
BEGIN:VEVENT
DTSTART;TZID=Europe/Berlin:20260422T180000
DTEND;TZID=Europe/Berlin:20260422T190000
DTSTAMP:20260424T172234
CREATED:20240505T082613Z
LAST-MODIFIED:20250606T155026Z
UID:10000879-1776880800-1776884400@fidele-elf.de
SUMMARY:Junggarde
DESCRIPTION:
URL:https://fidele-elf.de/event/mittelgarde-training/2026-04-22/
LOCATION:Sporthalle – Gymnasium Am Mosbacher Berg\, Mosbacher Str. 57\, Wiesbaden\, Hessen\, 65187\, Deutschland
CATEGORIES:Junggardetraining
ORGANIZER;CN="Fidele Elf Carnevalsgemeinschaft Wiesbaden Mainz e.V.":MAILTO:info@fidele-elf.de
END:VEVENT
BEGIN:VEVENT
DTSTART;TZID=Europe/Berlin:20260422T180000
DTEND;TZID=Europe/Berlin:20260422T190000
DTSTAMP:20260424T172234
CREATED:20240505T082437Z
LAST-MODIFIED:20250606T155118Z
UID:10000618-1776880800-1776884400@fidele-elf.de
SUMMARY:Kleine Showtanzgruppe
DESCRIPTION:
URL:https://fidele-elf.de/event/kleine-showtanzgruppe-training/2026-04-22/
LOCATION:Sporthalle – Gymnasium Am Mosbacher Berg\, Mosbacher Str. 57\, Wiesbaden\, Hessen\, 65187\, Deutschland
CATEGORIES:kleineShowtanztraining
ORGANIZER;CN="Fidele Elf Carnevalsgemeinschaft Wiesbaden Mainz e.V.":MAILTO:info@fidele-elf.de
END:VEVENT
BEGIN:VEVENT
DTSTART;TZID=Europe/Berlin:20260421T190000
DTEND;TZID=Europe/Berlin:20260421T210000
DTSTAMP:20260424T172234
CREATED:20240505T083319Z
LAST-MODIFIED:20250606T155156Z
UID:10001401-1776798000-1776805200@fidele-elf.de
SUMMARY:Große Showtanzgruppe
DESCRIPTION:
URL:https://fidele-elf.de/event/grosse-showtanzgruppe-training/2026-04-21/
LOCATION:Sporthalle – Goetheschule\, Goethestraße 6\, Wiesbaden\, Hessen\, 65203\, Deutschland
CATEGORIES:GrosseShowtanzTraining
ORGANIZER;CN="Fidele Elf Carnevalsgemeinschaft Wiesbaden Mainz e.V.":MAILTO:info@fidele-elf.de
END:VEVENT
BEGIN:VEVENT
DTSTART;TZID=Europe/Berlin:20260415T190000
DTEND;TZID=Europe/Berlin:20260415T210000
DTSTAMP:20260424T172234
CREATED:20240505T082730Z
LAST-MODIFIED:20250606T155059Z
UID:10001661-1776279600-1776286800@fidele-elf.de
SUMMARY:Garde
DESCRIPTION:
URL:https://fidele-elf.de/event/garde-training/2026-04-15/
LOCATION:Sporthalle – Gymnasium Am Mosbacher Berg\, Mosbacher Str. 57\, Wiesbaden\, Hessen\, 65187\, Deutschland
CATEGORIES:Gardetraining
ORGANIZER;CN="Fidele Elf Carnevalsgemeinschaft Wiesbaden Mainz e.V.":MAILTO:info@fidele-elf.de
END:VEVENT
BEGIN:VEVENT
DTSTART;TZID=Europe/Berlin:20260415T180000
DTEND;TZID=Europe/Berlin:20260415T190000
DTSTAMP:20260424T172234
CREATED:20240505T082613Z
LAST-MODIFIED:20250606T155026Z
UID:10000878-1776276000-1776279600@fidele-elf.de
SUMMARY:Junggarde
DESCRIPTION:
URL:https://fidele-elf.de/event/mittelgarde-training/2026-04-15/
LOCATION:Sporthalle – Gymnasium Am Mosbacher Berg\, Mosbacher Str. 57\, Wiesbaden\, Hessen\, 65187\, Deutschland
CATEGORIES:Junggardetraining
ORGANIZER;CN="Fidele Elf Carnevalsgemeinschaft Wiesbaden Mainz e.V.":MAILTO:info@fidele-elf.de
END:VEVENT
BEGIN:VEVENT
DTSTART;TZID=Europe/Berlin:20260415T180000
DTEND;TZID=Europe/Berlin:20260415T190000
DTSTAMP:20260424T172234
CREATED:20240505T082437Z
LAST-MODIFIED:20250606T155118Z
UID:10000617-1776276000-1776279600@fidele-elf.de
SUMMARY:Kleine Showtanzgruppe
DESCRIPTION:
URL:https://fidele-elf.de/event/kleine-showtanzgruppe-training/2026-04-15/
LOCATION:Sporthalle – Gymnasium Am Mosbacher Berg\, Mosbacher Str. 57\, Wiesbaden\, Hessen\, 65187\, Deutschland
CATEGORIES:kleineShowtanztraining
ORGANIZER;CN="Fidele Elf Carnevalsgemeinschaft Wiesbaden Mainz e.V.":MAILTO:info@fidele-elf.de
END:VEVENT
BEGIN:VEVENT
DTSTART;TZID=Europe/Berlin:20260414T190000
DTEND;TZID=Europe/Berlin:20260414T210000
DTSTAMP:20260424T172234
CREATED:20240505T083319Z
LAST-MODIFIED:20250606T155156Z
UID:10001400-1776193200-1776200400@fidele-elf.de
SUMMARY:Große Showtanzgruppe
DESCRIPTION:
URL:https://fidele-elf.de/event/grosse-showtanzgruppe-training/2026-04-14/
LOCATION:Sporthalle – Goetheschule\, Goethestraße 6\, Wiesbaden\, Hessen\, 65203\, Deutschland
CATEGORIES:GrosseShowtanzTraining
ORGANIZER;CN="Fidele Elf Carnevalsgemeinschaft Wiesbaden Mainz e.V.":MAILTO:info@fidele-elf.de
END:VEVENT
BEGIN:VEVENT
DTSTART;TZID=Europe/Berlin:20260408T190000
DTEND;TZID=Europe/Berlin:20260408T210000
DTSTAMP:20260424T172234
CREATED:20240505T082730Z
LAST-MODIFIED:20250606T155059Z
UID:10001660-1775674800-1775682000@fidele-elf.de
SUMMARY:Garde
DESCRIPTION:
URL:https://fidele-elf.de/event/garde-training/2026-04-08/
LOCATION:Sporthalle – Gymnasium Am Mosbacher Berg\, Mosbacher Str. 57\, Wiesbaden\, Hessen\, 65187\, Deutschland
CATEGORIES:Gardetraining
ORGANIZER;CN="Fidele Elf Carnevalsgemeinschaft Wiesbaden Mainz e.V.":MAILTO:info@fidele-elf.de
END:VEVENT
BEGIN:VEVENT
DTSTART;TZID=Europe/Berlin:20260408T180000
DTEND;TZID=Europe/Berlin:20260408T190000
DTSTAMP:20260424T172234
CREATED:20240505T082613Z
LAST-MODIFIED:20250606T155026Z
UID:10000877-1775671200-1775674800@fidele-elf.de
SUMMARY:Junggarde
DESCRIPTION:
URL:https://fidele-elf.de/event/mittelgarde-training/2026-04-08/
LOCATION:Sporthalle – Gymnasium Am Mosbacher Berg\, Mosbacher Str. 57\, Wiesbaden\, Hessen\, 65187\, Deutschland
CATEGORIES:Junggardetraining
ORGANIZER;CN="Fidele Elf Carnevalsgemeinschaft Wiesbaden Mainz e.V.":MAILTO:info@fidele-elf.de
END:VEVENT
BEGIN:VEVENT
DTSTART;TZID=Europe/Berlin:20260408T180000
DTEND;TZID=Europe/Berlin:20260408T190000
DTSTAMP:20260424T172234
CREATED:20240505T082437Z
LAST-MODIFIED:20250606T155118Z
UID:10000616-1775671200-1775674800@fidele-elf.de
SUMMARY:Kleine Showtanzgruppe
DESCRIPTION:
URL:https://fidele-elf.de/event/kleine-showtanzgruppe-training/2026-04-08/
LOCATION:Sporthalle – Gymnasium Am Mosbacher Berg\, Mosbacher Str. 57\, Wiesbaden\, Hessen\, 65187\, Deutschland
CATEGORIES:kleineShowtanztraining
ORGANIZER;CN="Fidele Elf Carnevalsgemeinschaft Wiesbaden Mainz e.V.":MAILTO:info@fidele-elf.de
END:VEVENT
BEGIN:VEVENT
DTSTART;TZID=Europe/Berlin:20260407T190000
DTEND;TZID=Europe/Berlin:20260407T210000
DTSTAMP:20260424T172234
CREATED:20240505T083319Z
LAST-MODIFIED:20250606T155156Z
UID:10001399-1775588400-1775595600@fidele-elf.de
SUMMARY:Große Showtanzgruppe
DESCRIPTION:
URL:https://fidele-elf.de/event/grosse-showtanzgruppe-training/2026-04-07/
LOCATION:Sporthalle – Goetheschule\, Goethestraße 6\, Wiesbaden\, Hessen\, 65203\, Deutschland
CATEGORIES:GrosseShowtanzTraining
ORGANIZER;CN="Fidele Elf Carnevalsgemeinschaft Wiesbaden Mainz e.V.":MAILTO:info@fidele-elf.de
END:VEVENT
BEGIN:VEVENT
DTSTART;TZID=Europe/Berlin:20260401T190000
DTEND;TZID=Europe/Berlin:20260401T210000
DTSTAMP:20260424T172234
CREATED:20240505T082730Z
LAST-MODIFIED:20250606T155059Z
UID:10001659-1775070000-1775077200@fidele-elf.de
SUMMARY:Garde
DESCRIPTION:
URL:https://fidele-elf.de/event/garde-training/2026-04-01/
LOCATION:Sporthalle – Gymnasium Am Mosbacher Berg\, Mosbacher Str. 57\, Wiesbaden\, Hessen\, 65187\, Deutschland
CATEGORIES:Gardetraining
ORGANIZER;CN="Fidele Elf Carnevalsgemeinschaft Wiesbaden Mainz e.V.":MAILTO:info@fidele-elf.de
END:VEVENT
BEGIN:VEVENT
DTSTART;TZID=Europe/Berlin:20260401T180000
DTEND;TZID=Europe/Berlin:20260401T190000
DTSTAMP:20260424T172234
CREATED:20240505T082613Z
LAST-MODIFIED:20250606T155026Z
UID:10000876-1775066400-1775070000@fidele-elf.de
SUMMARY:Junggarde
DESCRIPTION:
URL:https://fidele-elf.de/event/mittelgarde-training/2026-04-01/
LOCATION:Sporthalle – Gymnasium Am Mosbacher Berg\, Mosbacher Str. 57\, Wiesbaden\, Hessen\, 65187\, Deutschland
CATEGORIES:Junggardetraining
ORGANIZER;CN="Fidele Elf Carnevalsgemeinschaft Wiesbaden Mainz e.V.":MAILTO:info@fidele-elf.de
END:VEVENT
BEGIN:VEVENT
DTSTART;TZID=Europe/Berlin:20260401T180000
DTEND;TZID=Europe/Berlin:20260401T190000
DTSTAMP:20260424T172234
CREATED:20240505T082437Z
LAST-MODIFIED:20250606T155118Z
UID:10000615-1775066400-1775070000@fidele-elf.de
SUMMARY:Kleine Showtanzgruppe
DESCRIPTION:
URL:https://fidele-elf.de/event/kleine-showtanzgruppe-training/2026-04-01/
LOCATION:Sporthalle – Gymnasium Am Mosbacher Berg\, Mosbacher Str. 57\, Wiesbaden\, Hessen\, 65187\, Deutschland
CATEGORIES:kleineShowtanztraining
ORGANIZER;CN="Fidele Elf Carnevalsgemeinschaft Wiesbaden Mainz e.V.":MAILTO:info@fidele-elf.de
END:VEVENT
BEGIN:VEVENT
DTSTART;TZID=Europe/Berlin:20260331T190000
DTEND;TZID=Europe/Berlin:20260331T210000
DTSTAMP:20260424T172234
CREATED:20240505T083319Z
LAST-MODIFIED:20250606T155156Z
UID:10001398-1774983600-1774990800@fidele-elf.de
SUMMARY:Große Showtanzgruppe
DESCRIPTION:
URL:https://fidele-elf.de/event/grosse-showtanzgruppe-training/2026-03-31/
LOCATION:Sporthalle – Goetheschule\, Goethestraße 6\, Wiesbaden\, Hessen\, 65203\, Deutschland
CATEGORIES:GrosseShowtanzTraining
ORGANIZER;CN="Fidele Elf Carnevalsgemeinschaft Wiesbaden Mainz e.V.":MAILTO:info@fidele-elf.de
END:VEVENT
BEGIN:VEVENT
DTSTART;TZID=Europe/Berlin:20260325T190000
DTEND;TZID=Europe/Berlin:20260325T210000
DTSTAMP:20260424T172234
CREATED:20240505T082730Z
LAST-MODIFIED:20250606T155059Z
UID:10001658-1774465200-1774472400@fidele-elf.de
SUMMARY:Garde
DESCRIPTION:
URL:https://fidele-elf.de/event/garde-training/2026-03-25/
LOCATION:Sporthalle – Gymnasium Am Mosbacher Berg\, Mosbacher Str. 57\, Wiesbaden\, Hessen\, 65187\, Deutschland
CATEGORIES:Gardetraining
ORGANIZER;CN="Fidele Elf Carnevalsgemeinschaft Wiesbaden Mainz e.V.":MAILTO:info@fidele-elf.de
END:VEVENT
BEGIN:VEVENT
DTSTART;TZID=Europe/Berlin:20260325T180000
DTEND;TZID=Europe/Berlin:20260325T190000
DTSTAMP:20260424T172234
CREATED:20240505T082613Z
LAST-MODIFIED:20250606T155026Z
UID:10000875-1774461600-1774465200@fidele-elf.de
SUMMARY:Junggarde
DESCRIPTION:
URL:https://fidele-elf.de/event/mittelgarde-training/2026-03-25/
LOCATION:Sporthalle – Gymnasium Am Mosbacher Berg\, Mosbacher Str. 57\, Wiesbaden\, Hessen\, 65187\, Deutschland
CATEGORIES:Junggardetraining
ORGANIZER;CN="Fidele Elf Carnevalsgemeinschaft Wiesbaden Mainz e.V.":MAILTO:info@fidele-elf.de
END:VEVENT
BEGIN:VEVENT
DTSTART;TZID=Europe/Berlin:20260325T180000
DTEND;TZID=Europe/Berlin:20260325T190000
DTSTAMP:20260424T172234
CREATED:20240505T082437Z
LAST-MODIFIED:20250606T155118Z
UID:10000614-1774461600-1774465200@fidele-elf.de
SUMMARY:Kleine Showtanzgruppe
DESCRIPTION:
URL:https://fidele-elf.de/event/kleine-showtanzgruppe-training/2026-03-25/
LOCATION:Sporthalle – Gymnasium Am Mosbacher Berg\, Mosbacher Str. 57\, Wiesbaden\, Hessen\, 65187\, Deutschland
CATEGORIES:kleineShowtanztraining
ORGANIZER;CN="Fidele Elf Carnevalsgemeinschaft Wiesbaden Mainz e.V.":MAILTO:info@fidele-elf.de
END:VEVENT
BEGIN:VEVENT
DTSTART;TZID=Europe/Berlin:20260324T190000
DTEND;TZID=Europe/Berlin:20260324T210000
DTSTAMP:20260424T172234
CREATED:20240505T083319Z
LAST-MODIFIED:20250606T155156Z
UID:10001397-1774378800-1774386000@fidele-elf.de
SUMMARY:Große Showtanzgruppe
DESCRIPTION:
URL:https://fidele-elf.de/event/grosse-showtanzgruppe-training/2026-03-24/
LOCATION:Sporthalle – Goetheschule\, Goethestraße 6\, Wiesbaden\, Hessen\, 65203\, Deutschland
CATEGORIES:GrosseShowtanzTraining
ORGANIZER;CN="Fidele Elf Carnevalsgemeinschaft Wiesbaden Mainz e.V.":MAILTO:info@fidele-elf.de
END:VEVENT
BEGIN:VEVENT
DTSTART;TZID=Europe/Berlin:20260318T190000
DTEND;TZID=Europe/Berlin:20260318T210000
DTSTAMP:20260424T172234
CREATED:20240505T082730Z
LAST-MODIFIED:20250606T155059Z
UID:10001657-1773860400-1773867600@fidele-elf.de
SUMMARY:Garde
DESCRIPTION:
URL:https://fidele-elf.de/event/garde-training/2026-03-18/
LOCATION:Sporthalle – Gymnasium Am Mosbacher Berg\, Mosbacher Str. 57\, Wiesbaden\, Hessen\, 65187\, Deutschland
CATEGORIES:Gardetraining
ORGANIZER;CN="Fidele Elf Carnevalsgemeinschaft Wiesbaden Mainz e.V.":MAILTO:info@fidele-elf.de
END:VEVENT
BEGIN:VEVENT
DTSTART;TZID=Europe/Berlin:20260318T180000
DTEND;TZID=Europe/Berlin:20260318T190000
DTSTAMP:20260424T172234
CREATED:20240505T082613Z
LAST-MODIFIED:20250606T155026Z
UID:10000874-1773856800-1773860400@fidele-elf.de
SUMMARY:Junggarde
DESCRIPTION:
URL:https://fidele-elf.de/event/mittelgarde-training/2026-03-18/
LOCATION:Sporthalle – Gymnasium Am Mosbacher Berg\, Mosbacher Str. 57\, Wiesbaden\, Hessen\, 65187\, Deutschland
CATEGORIES:Junggardetraining
ORGANIZER;CN="Fidele Elf Carnevalsgemeinschaft Wiesbaden Mainz e.V.":MAILTO:info@fidele-elf.de
END:VEVENT
BEGIN:VEVENT
DTSTART;TZID=Europe/Berlin:20260318T180000
DTEND;TZID=Europe/Berlin:20260318T190000
DTSTAMP:20260424T172234
CREATED:20240505T082437Z
LAST-MODIFIED:20250606T155118Z
UID:10000613-1773856800-1773860400@fidele-elf.de
SUMMARY:Kleine Showtanzgruppe
DESCRIPTION:
URL:https://fidele-elf.de/event/kleine-showtanzgruppe-training/2026-03-18/
LOCATION:Sporthalle – Gymnasium Am Mosbacher Berg\, Mosbacher Str. 57\, Wiesbaden\, Hessen\, 65187\, Deutschland
CATEGORIES:kleineShowtanztraining
ORGANIZER;CN="Fidele Elf Carnevalsgemeinschaft Wiesbaden Mainz e.V.":MAILTO:info@fidele-elf.de
END:VEVENT
BEGIN:VEVENT
DTSTART;TZID=Europe/Berlin:20260317T190000
DTEND;TZID=Europe/Berlin:20260317T210000
DTSTAMP:20260424T172234
CREATED:20240505T083319Z
LAST-MODIFIED:20250606T155156Z
UID:10001396-1773774000-1773781200@fidele-elf.de
SUMMARY:Große Showtanzgruppe
DESCRIPTION:
URL:https://fidele-elf.de/event/grosse-showtanzgruppe-training/2026-03-17/
LOCATION:Sporthalle – Goetheschule\, Goethestraße 6\, Wiesbaden\, Hessen\, 65203\, Deutschland
CATEGORIES:GrosseShowtanzTraining
ORGANIZER;CN="Fidele Elf Carnevalsgemeinschaft Wiesbaden Mainz e.V.":MAILTO:info@fidele-elf.de
END:VEVENT
BEGIN:VEVENT
DTSTART;TZID=Europe/Berlin:20260311T190000
DTEND;TZID=Europe/Berlin:20260311T210000
DTSTAMP:20260424T172234
CREATED:20240505T082730Z
LAST-MODIFIED:20250606T155059Z
UID:10001656-1773255600-1773262800@fidele-elf.de
SUMMARY:Garde
DESCRIPTION:
URL:https://fidele-elf.de/event/garde-training/2026-03-11/
LOCATION:Sporthalle – Gymnasium Am Mosbacher Berg\, Mosbacher Str. 57\, Wiesbaden\, Hessen\, 65187\, Deutschland
CATEGORIES:Gardetraining
ORGANIZER;CN="Fidele Elf Carnevalsgemeinschaft Wiesbaden Mainz e.V.":MAILTO:info@fidele-elf.de
END:VEVENT
BEGIN:VEVENT
DTSTART;TZID=Europe/Berlin:20260311T180000
DTEND;TZID=Europe/Berlin:20260311T190000
DTSTAMP:20260424T172234
CREATED:20240505T082613Z
LAST-MODIFIED:20250606T155026Z
UID:10000873-1773252000-1773255600@fidele-elf.de
SUMMARY:Junggarde
DESCRIPTION:
URL:https://fidele-elf.de/event/mittelgarde-training/2026-03-11/
LOCATION:Sporthalle – Gymnasium Am Mosbacher Berg\, Mosbacher Str. 57\, Wiesbaden\, Hessen\, 65187\, Deutschland
CATEGORIES:Junggardetraining
ORGANIZER;CN="Fidele Elf Carnevalsgemeinschaft Wiesbaden Mainz e.V.":MAILTO:info@fidele-elf.de
END:VEVENT
BEGIN:VEVENT
DTSTART;TZID=Europe/Berlin:20260311T180000
DTEND;TZID=Europe/Berlin:20260311T190000
DTSTAMP:20260424T172234
CREATED:20240505T082437Z
LAST-MODIFIED:20250606T155118Z
UID:10000612-1773252000-1773255600@fidele-elf.de
SUMMARY:Kleine Showtanzgruppe
DESCRIPTION:
URL:https://fidele-elf.de/event/kleine-showtanzgruppe-training/2026-03-11/
LOCATION:Sporthalle – Gymnasium Am Mosbacher Berg\, Mosbacher Str. 57\, Wiesbaden\, Hessen\, 65187\, Deutschland
CATEGORIES:kleineShowtanztraining
ORGANIZER;CN="Fidele Elf Carnevalsgemeinschaft Wiesbaden Mainz e.V.":MAILTO:info@fidele-elf.de
END:VEVENT
BEGIN:VEVENT
DTSTART;TZID=Europe/Berlin:20260310T190000
DTEND;TZID=Europe/Berlin:20260310T210000
DTSTAMP:20260424T172234
CREATED:20240505T083319Z
LAST-MODIFIED:20250606T155156Z
UID:10001395-1773169200-1773176400@fidele-elf.de
SUMMARY:Große Showtanzgruppe
DESCRIPTION:
URL:https://fidele-elf.de/event/grosse-showtanzgruppe-training/2026-03-10/
LOCATION:Sporthalle – Goetheschule\, Goethestraße 6\, Wiesbaden\, Hessen\, 65203\, Deutschland
CATEGORIES:GrosseShowtanzTraining
ORGANIZER;CN="Fidele Elf Carnevalsgemeinschaft Wiesbaden Mainz e.V.":MAILTO:info@fidele-elf.de
END:VEVENT
BEGIN:VEVENT
DTSTART;TZID=Europe/Berlin:20260304T190000
DTEND;TZID=Europe/Berlin:20260304T210000
DTSTAMP:20260424T172234
CREATED:20240505T082730Z
LAST-MODIFIED:20250606T155059Z
UID:10001655-1772650800-1772658000@fidele-elf.de
SUMMARY:Garde
DESCRIPTION:
URL:https://fidele-elf.de/event/garde-training/2026-03-04/
LOCATION:Sporthalle – Gymnasium Am Mosbacher Berg\, Mosbacher Str. 57\, Wiesbaden\, Hessen\, 65187\, Deutschland
CATEGORIES:Gardetraining
ORGANIZER;CN="Fidele Elf Carnevalsgemeinschaft Wiesbaden Mainz e.V.":MAILTO:info@fidele-elf.de
END:VEVENT
BEGIN:VEVENT
DTSTART;TZID=Europe/Berlin:20260304T180000
DTEND;TZID=Europe/Berlin:20260304T190000
DTSTAMP:20260424T172234
CREATED:20240505T082613Z
LAST-MODIFIED:20250606T155026Z
UID:10000872-1772647200-1772650800@fidele-elf.de
SUMMARY:Junggarde
DESCRIPTION:
URL:https://fidele-elf.de/event/mittelgarde-training/2026-03-04/
LOCATION:Sporthalle – Gymnasium Am Mosbacher Berg\, Mosbacher Str. 57\, Wiesbaden\, Hessen\, 65187\, Deutschland
CATEGORIES:Junggardetraining
ORGANIZER;CN="Fidele Elf Carnevalsgemeinschaft Wiesbaden Mainz e.V.":MAILTO:info@fidele-elf.de
END:VEVENT
END:VCALENDAR