BEGIN:VCALENDAR
VERSION:2.0
PRODID:-//Fidele Elf Wiesbaden / Mainz e.V. - ECPv6.15.20//NONSGML v1.0//EN
CALSCALE:GREGORIAN
METHOD:PUBLISH
X-ORIGINAL-URL:https://fidele-elf.de
X-WR-CALDESC:Veranstaltungen für Fidele Elf Wiesbaden / Mainz e.V.
REFRESH-INTERVAL;VALUE=DURATION:PT1H
X-Robots-Tag:noindex
X-PUBLISHED-TTL:PT1H
BEGIN:VTIMEZONE
TZID:Europe/Berlin
BEGIN:DAYLIGHT
TZOFFSETFROM:+0100
TZOFFSETTO:+0200
TZNAME:CEST
DTSTART:20250330T010000
END:DAYLIGHT
BEGIN:STANDARD
TZOFFSETFROM:+0200
TZOFFSETTO:+0100
TZNAME:CET
DTSTART:20251026T010000
END:STANDARD
BEGIN:DAYLIGHT
TZOFFSETFROM:+0100
TZOFFSETTO:+0200
TZNAME:CEST
DTSTART:20260329T010000
END:DAYLIGHT
BEGIN:STANDARD
TZOFFSETFROM:+0200
TZOFFSETTO:+0100
TZNAME:CET
DTSTART:20261025T010000
END:STANDARD
BEGIN:DAYLIGHT
TZOFFSETFROM:+0100
TZOFFSETTO:+0200
TZNAME:CEST
DTSTART:20270328T010000
END:DAYLIGHT
BEGIN:STANDARD
TZOFFSETFROM:+0200
TZOFFSETTO:+0100
TZNAME:CET
DTSTART:20271031T010000
END:STANDARD
END:VTIMEZONE
BEGIN:VEVENT
DTSTART;TZID=Europe/Berlin:20260617T180000
DTEND;TZID=Europe/Berlin:20260617T190000
DTSTAMP:20260424T212212
CREATED:20240505T082437Z
LAST-MODIFIED:20250606T155118Z
UID:10000626-1781719200-1781722800@fidele-elf.de
SUMMARY:Kleine Showtanzgruppe
DESCRIPTION:
URL:https://fidele-elf.de/event/kleine-showtanzgruppe-training/2026-06-17/
LOCATION:Sporthalle – Gymnasium Am Mosbacher Berg\, Mosbacher Str. 57\, Wiesbaden\, Hessen\, 65187\, Deutschland
CATEGORIES:kleineShowtanztraining
ORGANIZER;CN="Fidele Elf Carnevalsgemeinschaft Wiesbaden Mainz e.V.":MAILTO:info@fidele-elf.de
END:VEVENT
BEGIN:VEVENT
DTSTART;TZID=Europe/Berlin:20260617T180000
DTEND;TZID=Europe/Berlin:20260617T190000
DTSTAMP:20260424T212212
CREATED:20240505T082613Z
LAST-MODIFIED:20250606T155026Z
UID:10000887-1781719200-1781722800@fidele-elf.de
SUMMARY:Junggarde
DESCRIPTION:
URL:https://fidele-elf.de/event/mittelgarde-training/2026-06-17/
LOCATION:Sporthalle – Gymnasium Am Mosbacher Berg\, Mosbacher Str. 57\, Wiesbaden\, Hessen\, 65187\, Deutschland
CATEGORIES:Junggardetraining
ORGANIZER;CN="Fidele Elf Carnevalsgemeinschaft Wiesbaden Mainz e.V.":MAILTO:info@fidele-elf.de
END:VEVENT
BEGIN:VEVENT
DTSTART;TZID=Europe/Berlin:20260617T190000
DTEND;TZID=Europe/Berlin:20260617T210000
DTSTAMP:20260424T212212
CREATED:20240505T082730Z
LAST-MODIFIED:20250606T155059Z
UID:10001670-1781722800-1781730000@fidele-elf.de
SUMMARY:Garde
DESCRIPTION:
URL:https://fidele-elf.de/event/garde-training/2026-06-17/
LOCATION:Sporthalle – Gymnasium Am Mosbacher Berg\, Mosbacher Str. 57\, Wiesbaden\, Hessen\, 65187\, Deutschland
CATEGORIES:Gardetraining
ORGANIZER;CN="Fidele Elf Carnevalsgemeinschaft Wiesbaden Mainz e.V.":MAILTO:info@fidele-elf.de
END:VEVENT
BEGIN:VEVENT
DTSTART;TZID=Europe/Berlin:20260620T150000
DTEND;TZID=Europe/Berlin:20260620T235500
DTSTAMP:20260424T212212
CREATED:20170511T111714Z
LAST-MODIFIED:20260403T165618Z
UID:10000225-1781967600-1781999700@fidele-elf.de
SUMMARY:Grillfest der Fidelen Elf
DESCRIPTION:
URL:https://fidele-elf.de/event/grillfest-der-fidelen-elf/
LOCATION:Siedlergemeinschaft Rosenfeld-Selbsthilfe\, Zaberner Str. 12\, Wiesbaden-Biebrich\, 65203\, Deutschland
CATEGORIES:Veranstaltungen
ORGANIZER;CN="Fidele Elf Carnevalsgemeinschaft Wiesbaden Mainz e.V.":MAILTO:info@fidele-elf.de
END:VEVENT
BEGIN:VEVENT
DTSTART;TZID=Europe/Berlin:20260623T190000
DTEND;TZID=Europe/Berlin:20260623T210000
DTSTAMP:20260424T212212
CREATED:20240505T083319Z
LAST-MODIFIED:20250606T155156Z
UID:10001410-1782241200-1782248400@fidele-elf.de
SUMMARY:Große Showtanzgruppe
DESCRIPTION:
URL:https://fidele-elf.de/event/grosse-showtanzgruppe-training/2026-06-23/
LOCATION:Sporthalle – Goetheschule\, Goethestraße 6\, Wiesbaden\, Hessen\, 65203\, Deutschland
CATEGORIES:GrosseShowtanzTraining
ORGANIZER;CN="Fidele Elf Carnevalsgemeinschaft Wiesbaden Mainz e.V.":MAILTO:info@fidele-elf.de
END:VEVENT
BEGIN:VEVENT
DTSTART;TZID=Europe/Berlin:20260624T180000
DTEND;TZID=Europe/Berlin:20260624T190000
DTSTAMP:20260424T212212
CREATED:20240505T082437Z
LAST-MODIFIED:20250606T155118Z
UID:10000627-1782324000-1782327600@fidele-elf.de
SUMMARY:Kleine Showtanzgruppe
DESCRIPTION:
URL:https://fidele-elf.de/event/kleine-showtanzgruppe-training/2026-06-24/
LOCATION:Sporthalle – Gymnasium Am Mosbacher Berg\, Mosbacher Str. 57\, Wiesbaden\, Hessen\, 65187\, Deutschland
CATEGORIES:kleineShowtanztraining
ORGANIZER;CN="Fidele Elf Carnevalsgemeinschaft Wiesbaden Mainz e.V.":MAILTO:info@fidele-elf.de
END:VEVENT
BEGIN:VEVENT
DTSTART;TZID=Europe/Berlin:20260624T180000
DTEND;TZID=Europe/Berlin:20260624T190000
DTSTAMP:20260424T212212
CREATED:20240505T082613Z
LAST-MODIFIED:20250606T155026Z
UID:10000888-1782324000-1782327600@fidele-elf.de
SUMMARY:Junggarde
DESCRIPTION:
URL:https://fidele-elf.de/event/mittelgarde-training/2026-06-24/
LOCATION:Sporthalle – Gymnasium Am Mosbacher Berg\, Mosbacher Str. 57\, Wiesbaden\, Hessen\, 65187\, Deutschland
CATEGORIES:Junggardetraining
ORGANIZER;CN="Fidele Elf Carnevalsgemeinschaft Wiesbaden Mainz e.V.":MAILTO:info@fidele-elf.de
END:VEVENT
BEGIN:VEVENT
DTSTART;TZID=Europe/Berlin:20260624T190000
DTEND;TZID=Europe/Berlin:20260624T210000
DTSTAMP:20260424T212212
CREATED:20240505T082730Z
LAST-MODIFIED:20250606T155059Z
UID:10001671-1782327600-1782334800@fidele-elf.de
SUMMARY:Garde
DESCRIPTION:
URL:https://fidele-elf.de/event/garde-training/2026-06-24/
LOCATION:Sporthalle – Gymnasium Am Mosbacher Berg\, Mosbacher Str. 57\, Wiesbaden\, Hessen\, 65187\, Deutschland
CATEGORIES:Gardetraining
ORGANIZER;CN="Fidele Elf Carnevalsgemeinschaft Wiesbaden Mainz e.V.":MAILTO:info@fidele-elf.de
END:VEVENT
BEGIN:VEVENT
DTSTART;TZID=Europe/Berlin:20260630T190000
DTEND;TZID=Europe/Berlin:20260630T210000
DTSTAMP:20260424T212212
CREATED:20240505T083319Z
LAST-MODIFIED:20250606T155156Z
UID:10001411-1782846000-1782853200@fidele-elf.de
SUMMARY:Große Showtanzgruppe
DESCRIPTION:
URL:https://fidele-elf.de/event/grosse-showtanzgruppe-training/2026-06-30/
LOCATION:Sporthalle – Goetheschule\, Goethestraße 6\, Wiesbaden\, Hessen\, 65203\, Deutschland
CATEGORIES:GrosseShowtanzTraining
ORGANIZER;CN="Fidele Elf Carnevalsgemeinschaft Wiesbaden Mainz e.V.":MAILTO:info@fidele-elf.de
END:VEVENT
BEGIN:VEVENT
DTSTART;TZID=Europe/Berlin:20260701T180000
DTEND;TZID=Europe/Berlin:20260701T190000
DTSTAMP:20260424T212212
CREATED:20240505T082437Z
LAST-MODIFIED:20250606T155118Z
UID:10000628-1782928800-1782932400@fidele-elf.de
SUMMARY:Kleine Showtanzgruppe
DESCRIPTION:
URL:https://fidele-elf.de/event/kleine-showtanzgruppe-training/2026-07-01/
LOCATION:Sporthalle – Gymnasium Am Mosbacher Berg\, Mosbacher Str. 57\, Wiesbaden\, Hessen\, 65187\, Deutschland
CATEGORIES:kleineShowtanztraining
ORGANIZER;CN="Fidele Elf Carnevalsgemeinschaft Wiesbaden Mainz e.V.":MAILTO:info@fidele-elf.de
END:VEVENT
BEGIN:VEVENT
DTSTART;TZID=Europe/Berlin:20260701T180000
DTEND;TZID=Europe/Berlin:20260701T190000
DTSTAMP:20260424T212212
CREATED:20240505T082613Z
LAST-MODIFIED:20250606T155026Z
UID:10000889-1782928800-1782932400@fidele-elf.de
SUMMARY:Junggarde
DESCRIPTION:
URL:https://fidele-elf.de/event/mittelgarde-training/2026-07-01/
LOCATION:Sporthalle – Gymnasium Am Mosbacher Berg\, Mosbacher Str. 57\, Wiesbaden\, Hessen\, 65187\, Deutschland
CATEGORIES:Junggardetraining
ORGANIZER;CN="Fidele Elf Carnevalsgemeinschaft Wiesbaden Mainz e.V.":MAILTO:info@fidele-elf.de
END:VEVENT
BEGIN:VEVENT
DTSTART;TZID=Europe/Berlin:20260701T190000
DTEND;TZID=Europe/Berlin:20260701T210000
DTSTAMP:20260424T212212
CREATED:20240505T082730Z
LAST-MODIFIED:20250606T155059Z
UID:10001672-1782932400-1782939600@fidele-elf.de
SUMMARY:Garde
DESCRIPTION:
URL:https://fidele-elf.de/event/garde-training/2026-07-01/
LOCATION:Sporthalle – Gymnasium Am Mosbacher Berg\, Mosbacher Str. 57\, Wiesbaden\, Hessen\, 65187\, Deutschland
CATEGORIES:Gardetraining
ORGANIZER;CN="Fidele Elf Carnevalsgemeinschaft Wiesbaden Mainz e.V.":MAILTO:info@fidele-elf.de
END:VEVENT
BEGIN:VEVENT
DTSTART;TZID=Europe/Berlin:20260707T190000
DTEND;TZID=Europe/Berlin:20260707T210000
DTSTAMP:20260424T212212
CREATED:20240505T083319Z
LAST-MODIFIED:20250606T155156Z
UID:10001412-1783450800-1783458000@fidele-elf.de
SUMMARY:Große Showtanzgruppe
DESCRIPTION:
URL:https://fidele-elf.de/event/grosse-showtanzgruppe-training/2026-07-07/
LOCATION:Sporthalle – Goetheschule\, Goethestraße 6\, Wiesbaden\, Hessen\, 65203\, Deutschland
CATEGORIES:GrosseShowtanzTraining
ORGANIZER;CN="Fidele Elf Carnevalsgemeinschaft Wiesbaden Mainz e.V.":MAILTO:info@fidele-elf.de
END:VEVENT
BEGIN:VEVENT
DTSTART;TZID=Europe/Berlin:20260708T180000
DTEND;TZID=Europe/Berlin:20260708T190000
DTSTAMP:20260424T212212
CREATED:20240505T082437Z
LAST-MODIFIED:20250606T155118Z
UID:10000629-1783533600-1783537200@fidele-elf.de
SUMMARY:Kleine Showtanzgruppe
DESCRIPTION:
URL:https://fidele-elf.de/event/kleine-showtanzgruppe-training/2026-07-08/
LOCATION:Sporthalle – Gymnasium Am Mosbacher Berg\, Mosbacher Str. 57\, Wiesbaden\, Hessen\, 65187\, Deutschland
CATEGORIES:kleineShowtanztraining
ORGANIZER;CN="Fidele Elf Carnevalsgemeinschaft Wiesbaden Mainz e.V.":MAILTO:info@fidele-elf.de
END:VEVENT
BEGIN:VEVENT
DTSTART;TZID=Europe/Berlin:20260708T180000
DTEND;TZID=Europe/Berlin:20260708T190000
DTSTAMP:20260424T212212
CREATED:20240505T082613Z
LAST-MODIFIED:20250606T155026Z
UID:10000890-1783533600-1783537200@fidele-elf.de
SUMMARY:Junggarde
DESCRIPTION:
URL:https://fidele-elf.de/event/mittelgarde-training/2026-07-08/
LOCATION:Sporthalle – Gymnasium Am Mosbacher Berg\, Mosbacher Str. 57\, Wiesbaden\, Hessen\, 65187\, Deutschland
CATEGORIES:Junggardetraining
ORGANIZER;CN="Fidele Elf Carnevalsgemeinschaft Wiesbaden Mainz e.V.":MAILTO:info@fidele-elf.de
END:VEVENT
BEGIN:VEVENT
DTSTART;TZID=Europe/Berlin:20260708T190000
DTEND;TZID=Europe/Berlin:20260708T210000
DTSTAMP:20260424T212212
CREATED:20240505T082730Z
LAST-MODIFIED:20250606T155059Z
UID:10001673-1783537200-1783544400@fidele-elf.de
SUMMARY:Garde
DESCRIPTION:
URL:https://fidele-elf.de/event/garde-training/2026-07-08/
LOCATION:Sporthalle – Gymnasium Am Mosbacher Berg\, Mosbacher Str. 57\, Wiesbaden\, Hessen\, 65187\, Deutschland
CATEGORIES:Gardetraining
ORGANIZER;CN="Fidele Elf Carnevalsgemeinschaft Wiesbaden Mainz e.V.":MAILTO:info@fidele-elf.de
END:VEVENT
BEGIN:VEVENT
DTSTART;TZID=Europe/Berlin:20260714T190000
DTEND;TZID=Europe/Berlin:20260714T210000
DTSTAMP:20260424T212212
CREATED:20240505T083319Z
LAST-MODIFIED:20250606T155156Z
UID:10001413-1784055600-1784062800@fidele-elf.de
SUMMARY:Große Showtanzgruppe
DESCRIPTION:
URL:https://fidele-elf.de/event/grosse-showtanzgruppe-training/2026-07-14/
LOCATION:Sporthalle – Goetheschule\, Goethestraße 6\, Wiesbaden\, Hessen\, 65203\, Deutschland
CATEGORIES:GrosseShowtanzTraining
ORGANIZER;CN="Fidele Elf Carnevalsgemeinschaft Wiesbaden Mainz e.V.":MAILTO:info@fidele-elf.de
END:VEVENT
BEGIN:VEVENT
DTSTART;TZID=Europe/Berlin:20260715T180000
DTEND;TZID=Europe/Berlin:20260715T190000
DTSTAMP:20260424T212212
CREATED:20240505T082437Z
LAST-MODIFIED:20250606T155118Z
UID:10000630-1784138400-1784142000@fidele-elf.de
SUMMARY:Kleine Showtanzgruppe
DESCRIPTION:
URL:https://fidele-elf.de/event/kleine-showtanzgruppe-training/2026-07-15/
LOCATION:Sporthalle – Gymnasium Am Mosbacher Berg\, Mosbacher Str. 57\, Wiesbaden\, Hessen\, 65187\, Deutschland
CATEGORIES:kleineShowtanztraining
ORGANIZER;CN="Fidele Elf Carnevalsgemeinschaft Wiesbaden Mainz e.V.":MAILTO:info@fidele-elf.de
END:VEVENT
BEGIN:VEVENT
DTSTART;TZID=Europe/Berlin:20260715T180000
DTEND;TZID=Europe/Berlin:20260715T190000
DTSTAMP:20260424T212212
CREATED:20240505T082613Z
LAST-MODIFIED:20250606T155026Z
UID:10000891-1784138400-1784142000@fidele-elf.de
SUMMARY:Junggarde
DESCRIPTION:
URL:https://fidele-elf.de/event/mittelgarde-training/2026-07-15/
LOCATION:Sporthalle – Gymnasium Am Mosbacher Berg\, Mosbacher Str. 57\, Wiesbaden\, Hessen\, 65187\, Deutschland
CATEGORIES:Junggardetraining
ORGANIZER;CN="Fidele Elf Carnevalsgemeinschaft Wiesbaden Mainz e.V.":MAILTO:info@fidele-elf.de
END:VEVENT
BEGIN:VEVENT
DTSTART;TZID=Europe/Berlin:20260715T190000
DTEND;TZID=Europe/Berlin:20260715T210000
DTSTAMP:20260424T212212
CREATED:20240505T082730Z
LAST-MODIFIED:20250606T155059Z
UID:10001674-1784142000-1784149200@fidele-elf.de
SUMMARY:Garde
DESCRIPTION:
URL:https://fidele-elf.de/event/garde-training/2026-07-15/
LOCATION:Sporthalle – Gymnasium Am Mosbacher Berg\, Mosbacher Str. 57\, Wiesbaden\, Hessen\, 65187\, Deutschland
CATEGORIES:Gardetraining
ORGANIZER;CN="Fidele Elf Carnevalsgemeinschaft Wiesbaden Mainz e.V.":MAILTO:info@fidele-elf.de
END:VEVENT
BEGIN:VEVENT
DTSTART;TZID=Europe/Berlin:20260721T190000
DTEND;TZID=Europe/Berlin:20260721T210000
DTSTAMP:20260424T212212
CREATED:20240505T083319Z
LAST-MODIFIED:20250606T155156Z
UID:10001414-1784660400-1784667600@fidele-elf.de
SUMMARY:Große Showtanzgruppe
DESCRIPTION:
URL:https://fidele-elf.de/event/grosse-showtanzgruppe-training/2026-07-21/
LOCATION:Sporthalle – Goetheschule\, Goethestraße 6\, Wiesbaden\, Hessen\, 65203\, Deutschland
CATEGORIES:GrosseShowtanzTraining
ORGANIZER;CN="Fidele Elf Carnevalsgemeinschaft Wiesbaden Mainz e.V.":MAILTO:info@fidele-elf.de
END:VEVENT
BEGIN:VEVENT
DTSTART;TZID=Europe/Berlin:20260722T180000
DTEND;TZID=Europe/Berlin:20260722T190000
DTSTAMP:20260424T212212
CREATED:20240505T082437Z
LAST-MODIFIED:20250606T155118Z
UID:10000631-1784743200-1784746800@fidele-elf.de
SUMMARY:Kleine Showtanzgruppe
DESCRIPTION:
URL:https://fidele-elf.de/event/kleine-showtanzgruppe-training/2026-07-22/
LOCATION:Sporthalle – Gymnasium Am Mosbacher Berg\, Mosbacher Str. 57\, Wiesbaden\, Hessen\, 65187\, Deutschland
CATEGORIES:kleineShowtanztraining
ORGANIZER;CN="Fidele Elf Carnevalsgemeinschaft Wiesbaden Mainz e.V.":MAILTO:info@fidele-elf.de
END:VEVENT
BEGIN:VEVENT
DTSTART;TZID=Europe/Berlin:20260722T180000
DTEND;TZID=Europe/Berlin:20260722T190000
DTSTAMP:20260424T212212
CREATED:20240505T082613Z
LAST-MODIFIED:20250606T155026Z
UID:10000892-1784743200-1784746800@fidele-elf.de
SUMMARY:Junggarde
DESCRIPTION:
URL:https://fidele-elf.de/event/mittelgarde-training/2026-07-22/
LOCATION:Sporthalle – Gymnasium Am Mosbacher Berg\, Mosbacher Str. 57\, Wiesbaden\, Hessen\, 65187\, Deutschland
CATEGORIES:Junggardetraining
ORGANIZER;CN="Fidele Elf Carnevalsgemeinschaft Wiesbaden Mainz e.V.":MAILTO:info@fidele-elf.de
END:VEVENT
BEGIN:VEVENT
DTSTART;TZID=Europe/Berlin:20260722T190000
DTEND;TZID=Europe/Berlin:20260722T210000
DTSTAMP:20260424T212212
CREATED:20240505T082730Z
LAST-MODIFIED:20250606T155059Z
UID:10001675-1784746800-1784754000@fidele-elf.de
SUMMARY:Garde
DESCRIPTION:
URL:https://fidele-elf.de/event/garde-training/2026-07-22/
LOCATION:Sporthalle – Gymnasium Am Mosbacher Berg\, Mosbacher Str. 57\, Wiesbaden\, Hessen\, 65187\, Deutschland
CATEGORIES:Gardetraining
ORGANIZER;CN="Fidele Elf Carnevalsgemeinschaft Wiesbaden Mainz e.V.":MAILTO:info@fidele-elf.de
END:VEVENT
BEGIN:VEVENT
DTSTART;TZID=Europe/Berlin:20260728T190000
DTEND;TZID=Europe/Berlin:20260728T210000
DTSTAMP:20260424T212212
CREATED:20240505T083319Z
LAST-MODIFIED:20250606T155156Z
UID:10001415-1785265200-1785272400@fidele-elf.de
SUMMARY:Große Showtanzgruppe
DESCRIPTION:
URL:https://fidele-elf.de/event/grosse-showtanzgruppe-training/2026-07-28/
LOCATION:Sporthalle – Goetheschule\, Goethestraße 6\, Wiesbaden\, Hessen\, 65203\, Deutschland
CATEGORIES:GrosseShowtanzTraining
ORGANIZER;CN="Fidele Elf Carnevalsgemeinschaft Wiesbaden Mainz e.V.":MAILTO:info@fidele-elf.de
END:VEVENT
BEGIN:VEVENT
DTSTART;TZID=Europe/Berlin:20260729T180000
DTEND;TZID=Europe/Berlin:20260729T190000
DTSTAMP:20260424T212212
CREATED:20240505T082437Z
LAST-MODIFIED:20250606T155118Z
UID:10000632-1785348000-1785351600@fidele-elf.de
SUMMARY:Kleine Showtanzgruppe
DESCRIPTION:
URL:https://fidele-elf.de/event/kleine-showtanzgruppe-training/2026-07-29/
LOCATION:Sporthalle – Gymnasium Am Mosbacher Berg\, Mosbacher Str. 57\, Wiesbaden\, Hessen\, 65187\, Deutschland
CATEGORIES:kleineShowtanztraining
ORGANIZER;CN="Fidele Elf Carnevalsgemeinschaft Wiesbaden Mainz e.V.":MAILTO:info@fidele-elf.de
END:VEVENT
BEGIN:VEVENT
DTSTART;TZID=Europe/Berlin:20260729T180000
DTEND;TZID=Europe/Berlin:20260729T190000
DTSTAMP:20260424T212212
CREATED:20240505T082613Z
LAST-MODIFIED:20250606T155026Z
UID:10000893-1785348000-1785351600@fidele-elf.de
SUMMARY:Junggarde
DESCRIPTION:
URL:https://fidele-elf.de/event/mittelgarde-training/2026-07-29/
LOCATION:Sporthalle – Gymnasium Am Mosbacher Berg\, Mosbacher Str. 57\, Wiesbaden\, Hessen\, 65187\, Deutschland
CATEGORIES:Junggardetraining
ORGANIZER;CN="Fidele Elf Carnevalsgemeinschaft Wiesbaden Mainz e.V.":MAILTO:info@fidele-elf.de
END:VEVENT
BEGIN:VEVENT
DTSTART;TZID=Europe/Berlin:20260729T190000
DTEND;TZID=Europe/Berlin:20260729T210000
DTSTAMP:20260424T212212
CREATED:20240505T082730Z
LAST-MODIFIED:20250606T155059Z
UID:10001676-1785351600-1785358800@fidele-elf.de
SUMMARY:Garde
DESCRIPTION:
URL:https://fidele-elf.de/event/garde-training/2026-07-29/
LOCATION:Sporthalle – Gymnasium Am Mosbacher Berg\, Mosbacher Str. 57\, Wiesbaden\, Hessen\, 65187\, Deutschland
CATEGORIES:Gardetraining
ORGANIZER;CN="Fidele Elf Carnevalsgemeinschaft Wiesbaden Mainz e.V.":MAILTO:info@fidele-elf.de
END:VEVENT
BEGIN:VEVENT
DTSTART;TZID=Europe/Berlin:20260804T190000
DTEND;TZID=Europe/Berlin:20260804T210000
DTSTAMP:20260424T212212
CREATED:20240505T083319Z
LAST-MODIFIED:20250606T155156Z
UID:10001416-1785870000-1785877200@fidele-elf.de
SUMMARY:Große Showtanzgruppe
DESCRIPTION:
URL:https://fidele-elf.de/event/grosse-showtanzgruppe-training/2026-08-04/
LOCATION:Sporthalle – Goetheschule\, Goethestraße 6\, Wiesbaden\, Hessen\, 65203\, Deutschland
CATEGORIES:GrosseShowtanzTraining
ORGANIZER;CN="Fidele Elf Carnevalsgemeinschaft Wiesbaden Mainz e.V.":MAILTO:info@fidele-elf.de
END:VEVENT
BEGIN:VEVENT
DTSTART;TZID=Europe/Berlin:20260805T180000
DTEND;TZID=Europe/Berlin:20260805T190000
DTSTAMP:20260424T212212
CREATED:20240505T082437Z
LAST-MODIFIED:20250606T155118Z
UID:10000633-1785952800-1785956400@fidele-elf.de
SUMMARY:Kleine Showtanzgruppe
DESCRIPTION:
URL:https://fidele-elf.de/event/kleine-showtanzgruppe-training/2026-08-05/
LOCATION:Sporthalle – Gymnasium Am Mosbacher Berg\, Mosbacher Str. 57\, Wiesbaden\, Hessen\, 65187\, Deutschland
CATEGORIES:kleineShowtanztraining
ORGANIZER;CN="Fidele Elf Carnevalsgemeinschaft Wiesbaden Mainz e.V.":MAILTO:info@fidele-elf.de
END:VEVENT
END:VCALENDAR